Workbook

Sheet سهام
A1: صندوق سرمایه‌گذاری مشترک رشد سامان
A2: صورت وضعیت پرتفوی
A3: برای ماه منتهی به 1405/06/31
A4: -1 | B4: سرمایه گذاری ها
A5: -1-1 | C5: سرمایه گذاری در سهام و حق تقدم سهام | AD5: 7584001794036
F6: 1405/05/31 | L6: تغییرات طی دوره | T6: 1405/06/31
L7: خرید طی دوره | P7: فروش طی دوره
A8: نام شرکت | E8: تعداد | H8: بهای تمام شده | J8: خالص ارزش فروش | L8: تعداد | N8: بهای تمام شده | P8: تعداد | R8: مبلغ فروش | T8: تعداد | V8: قیمت بازار هر سهم | X8: بهای تمام شده | Z8: خالص ارزش فروش | AB8: درصد به کل دارایی ها
A9: احیا استیل فولاد بافت | E9: 10666000 | H9: 37215819143 | J9: 4.4133411e+10 | L9: 0 | N9: 0 | P9: 0 | R9: 0 | T9: 10666000 | V9: 4700 | X9: 37215819143 | Z9: 49742693554 | AB9: 0.65588979
A10: بانک‌اقتصادنوین‌ | E10: 77922000 | H10: 238075972106 | J10: 262886853996 | L10: 0 | N10: 0 | P10: 0 | R10: 0 | T10: 77922000 | V10: 3690 | X10: 238075972106 | Z10: 2.8530956e+11 | AB10: 3.7619922
A11: پالایش نفت اصفهان | E11: 46588350 | H11: 141358031562 | J11: 5.3069999e+11 | L11: 0 | N11: 0 | P11: 0 | R11: 0 | T11: 46588350 | V11: 12400 | X11: 141358031562 | Z11: 5.7322995e+11 | AB11: 7.55841
A12: پالایش نفت بندرعباس | E12: 29527778 | H12: 102081871884 | J12: 3.5686825e+11 | L12: 0 | N12: 0 | P12: 0 | R12: 0 | T12: 29527778 | V12: 14720 | X12: 102081871884 | Z12: 4.3128906e+11 | AB12: 5.6868269
A13: پتروشیمی پردیس | E13: 24906757 | H13: 108990971637 | J13: 2.6172367e+11 | L13: 0 | N13: 0 | P13: 0 | R13: 0 | T13: 24906757 | V13: 13460 | X13: 108990971637 | Z13: 3.3265351e+11 | AB13: 4.386253
A14: پتروشیمی نوری | E14: 5409032 | H14: 129286228612 | J14: 1.8441769e+11 | L14: 0 | N14: 0 | P14: 0 | R14: 0 | T14: 5409032 | V14: 51290 | X14: 129286228612 | Z14: 2.7528472e+11 | AB14: 3.6298083
A15: پست بانک ایران | E15: 40392392 | H15: 151352287226 | J15: 3.9158315e+11 | L15: 0 | N15: 0 | P15: 0 | R15: 0 | T15: 40392392 | V15: 9870 | X15: 151352287226 | Z15: 3.9559117e+11 | AB15: 5.216127
A16: تایدواترخاورمیانه | E16: 9014740 | H16: 38760578180 | J16: 6.6372316e+10 | L16: 0 | N16: 0 | P16: 0 | R16: 0 | T16: 9014740 | V16: 8360 | X16: 38760578180 | Z16: 7.4780669e+10 | AB16: 0.98603179
A17: داروسازی‌ اکسیر | E17: 4867386 | H17: 91528016226 | J17: 1.3286673e+11 | L17: 0 | N17: 0 | P17: 0 | R17: 0 | T17: 4867386 | V17: 25220 | X17: 91528016226 | Z17: 1.2180658e+11 | AB17: 1.606099
A18: داروسازی‌ فارابی‌ | E18: 17231359 | H18: 95210492929 | J18: 2.9289149e+11 | L18: 0 | N18: 0 | P18: -2050000 | R18: 35048464974 | T18: 15181359 | V18: 17230 | X18: 83883382255 | Z18: 2.5955284e+11 | AB18: 3.4223732
A19: ذغال‌سنگ‌ نگین‌ ط‌بس‌ | E19: 7117043 | H19: 79067140454 | J19: 1.0275251e+11 | L19: 0 | N19: 0 | P19: 0 | R19: 0 | T19: 7117043 | V19: 18470 | X19: 79067140454 | Z19: 1.3043566e+11 | AB19: 1.7198791
A20: رهیاب پیام گستران | E20: 585000 | H20: 4475351625 | J20: 4.0505751e+09 | L20: 0 | N20: 0 | P20: 0 | R20: 0 | T20: 585000 | V20: 6978 | X20: 4475351625 | Z20: 4.0505751e+09 | AB20: 0.05340947
... A46: صنعتی معدنی سیمان تجارت مهریز | E46: 0 | H46: 0 | J46: 0 | L46: 937500 | N46: 19739553750 | P46: -462500 | R46: 12926776625 | T46: 475000 | V46: 26420 | X46: 10001373899 | Z46: 12452492349 | AB46: 0.16419422
A47: جمع | H47: =SUM(H9:H46) -> 3086788303296 | J47: =SUM(J9:J46) -> 6.4594013e+12 | N47: 107406276334 | R47: =SUM(R9:R46) -> 124741074660 | X47: =SUM(X9:X46) -> 3121281778785 | Z47: =SUM(Z9:Z46) -> 7.3864767e+12 | AB47: =SUM(AB9:AB46) -> 97.395504

Sheet اوراق مشتقه
A1: صندوق سرمایه‌گذاری مشترک رشد سامان
A2: صورت وضعیت پرتفوی
A3: برای ماه منتهی به 1405/06/31
A5: اطلاعات آماری مرتبط با اوراق اختیار فروش تبعی خریداری شده توسط صندوق سرمایه گذاری:
I6: 1405/05/31 | AC6: 1405/06/31
A8: نام سهام | I8: تعداد اوراق تبعی | M8: قیمت اعمال | Q8: تاریخ اعمال | W8: نرخ سود موثر | AC8: تعداد اوراق تبعی | AI8: قیمت اعمال | AM8: تاریخ اعمال | AQ8: نرخ سود موثر
A9: اختیارف.ت.شگامرن-27574-050906 | I9: 5986871 | M9: 27524 | Q9: 1405/09/06 | W9: 0.37814742 | AC9: 5986871 | AI9: 27524 | AM9: 1405/09/06 | AQ9: 0.37814742
A10: اطلاعات آماری مرتبط با موقعیت های اخذ شده در اوراق اختیار معامله توسط صندوق سرمایه گذاری:
C11: 1405/05/31 | Y11: 1405/06/31
A12: نام سهام | C12: نوع اختیار | E12: نوع موقعیت | G12: استراتژی ماخوذه | K12: تعداد اوراق | O12: قیمت اعمال | S12: تاریخ اعمال | Y12: نوع اختیار | AE12: نوع موقعیت | AK12: استراتژی ماخوذه | AO12: تعداد اوراق | AS12: قیمت اعمال | AV12: تاریخ اعمال
A13: اطلاعات آماری مرتبط با قراردادهای آتی توسط صندوق سرمایه گذاری:
C14: 1405/05/31 | O14: 1405/06/31
A15: نام سهام | C15: نوع موقعیت | E15: تعداد اوراق | G15: قیمت اعمال | K15: تاریخ اعمال | O15: نوع موقعیت | U15: تعداد اوراق | AA15: قیمت اعمال | AG15: تاریخ اعمال

Sheet سپرده
A1: صندوق سرمایه‌گذاری مشترک رشد سامان
A2: صورت وضعیت پرتفوی
A3: برای ماه منتهی به 1405/06/31
A5: -4-1 | B5: سرمایه‌گذاری در سپرده‌ بانکی
D6: 1405/05/31 | F6: تغییرات طی دوره | J6: 1405/06/31
A7: سپرده های بانکی | D7: مبلغ | F7: افزایش | H7: کاهش | J7: مبلغ | L7: درصد به کل دارایی ها
A8: سپرده کوتاه مدت بانک سامان | D8: 603852370 | E8: 0 | F8: 108479413431 | G8: 0 | H8: 108705397740 | I8: 0 | J8: 377868061 | L8: =J8/سهام!AD$5*100 -> 0.0049824363
A9: سپرده کوتاه مدت بانک تجارت | D9: 44146838326 | F9: 148152066590 | H9: 158480447610 | J9: 33818457306 | L9: =J9/سهام!AD$5*100 -> 0.44591837
A10: جمع | D10: =SUM(D8:D9) -> 44750690696 | F10: =SUM(F8:F9) -> 256631480021 | H10: =SUM(H8:H9) -> 267185845350 | J10: =SUM(J8:J9) -> 34196325367 | L10: =SUM(L8:L9) -> 0.45090081

Sheet درآمد
A1: صندوق سرمایه‌گذاری مشترک رشد سامان
A2: صورت وضعیت درآمدها
A3: برای ماه منتهی به 1405/06/31
A5: -2 | B5: درآمد حاصل از سرمایه گذاری ها
A7: شرح | D7: یادداشت | F7: مبلغ | H7: درصد از کل درآمدها | J7: درصد از کل دارایی ها
A8: درآمد حاصل از سرمایه گذاری در سهام و حق تقدم سهام | D8: 1-2 | F8: ='درآمد سرمایه گذاری در سهام'!J61 -> 944410226833 | H8: =F8/F$11*100 -> 99.991253 | J8: =F8/7584001794018*100 -> 12.452664
A9: درآمد حاصل از سرمایه گذاری در سپرده بانکی و گواهی سپرده | D9: 2-2 | F9: ='درآمد سپرده بانکی'!D9 -> 4654114 | H9: =F9/F$11*100 -> 0.00049276329 | J9: =F9/7584001794018*100 -> 6.1367522e-05
A10: سایر درآمدها | D10: 3-2 | F10: ='سایر درآمدها'!D10 -> 77960130 | H10: =F10/F$11*100 -> 0.008254179 | J10: =F10/7584001794018*100 -> 0.0010279551
A11: جمع | F11: =SUM(F8:F10) -> 944492841077 | H11: =SUM(H8:H10) -> 100 | J11: =SUM(J8:J10) -> 12.453753

Sheet درآمد سرمایه گذاری در سهام
A1: صندوق سرمایه‌گذاری مشترک رشد سامان
A2: صورت وضعیت درآمدها
A3: برای ماه منتهی به 1405/06/31
A5: -1-2 | B5: درآمد حاصل از سرمایه­گذاری در سهام و حق تقدم سهام
D6: طی ماه | N6: از ابتدای سال مالی
A7: سهام | D7: درآمد سود سهام | F7: درآمد تغییر ارزش | H7: درآمد فروش | J7: مبلغ | L7: درصد از کل درآمدها | N7: درآمد سود سهام | P7: درآمد تغییر ارزش | S7: درآمد فروش | U7: مبلغ | W7: درصد از کل درآمدها
A8: شرکت صنایع غذایی مینو شرق | D8: 0 | F8: 9303058085 | H8: 13568895186 | J8: =D8+F8+H8 -> 22871953271 | L8: 2.4216121 | N8: 10674635701 | P8: 161551533617 | S8: 30995724354 | U8: =N8+P8+S8 -> 203221893672 | W8: 4.4192969
A9: داروسازی‌ فارابی‌ | D9: 0 | F9: -23410474969 | H9: 25120291198 | J9: =D9+F9+H9 -> 1709816229 | L9: 0.18103009 | N9: 15392591612 | P9: 186029344501 | S9: 25120291198 | U9: =N9+P9+S9 -> 226542227311 | W9: 5.199541
A10: فجر انرژی خلیج فارس | D10: 0 | F10: 56751126119 | H10: -11768826166 | J10: =D10+F10+H10 -> 44982299953 | L10: 4.7625877 | N10: 10430616537 | P10: -13352145646 | S10: -11768826166 | U10: =N10+P10+S10 -> -14690355275 | W10: -0.33716939
A11: نفت‌ بهران‌ | D11: 0 | F11: 9030805519 | H11: -4901 | J11: =D11+F11+H11 -> 9030800618 | L11: 0.95615342 | N11: 22002963000 | P11: 186133497917 | S11: -4901 | U11: =N11+P11+S11 -> 208136456016 | W11: 4.7770963
A12: زرین ذرت شاهرود | D12: 0 | F12: 2481910926 | H12: -5143 | J12: =D12+F12+H12 -> 2481905783 | L12: 0.26277656 | N12: 0 | P12: 6397390339 | S12: 2214822849 | U12: =N12+P12+S12 -> 8612213188 | W12: 0.19766538
A13: ملی‌ صنایع‌ مس‌ ایران‌ | D13: 0 | F13: 207897772997 | H13: 14471137737 | J13: =D13+F13+H13 -> 222368910734 | L13: 23.543737 | N13: 15584577200 | P13: 778346897425 | S13: 101533841406 | U13: =N13+P13+S13 -> 895465316031 | W13: 20.41964
A14: صنعتی معدنی سیمان تجارت مهریز | D14: 0 | F14: 2451118466 | H14: 3188596774 | J14: =D14+F14+H14 -> 5639715240 | L14: 0.59711572 | N14: 0 | P14: 2451118466 | S14: 3188596774 | U14: =N14+P14+S14 -> 5639715240 | W14: 0.12944134
A15: کشت وصنعت و دامپروری پگاه فارس | D15: 0 | F15: 0 | H15: 0 | J15: =D15+F15+H15 -> 0 | L15: 0 | N15: 360000000 | P15: 0 | S15: 2413691680 | U15: =N15+P15+S15 -> 2773691680 | W15: 0.063661083
A16: کولان سل | D16: 0 | F16: 558479324 | H16: 0 | J16: =D16+F16+H16 -> 558479324 | L16: 0.059130075 | N16: 257763000 | P16: 1242570634 | S16: 838512089 | U16: =N16+P16+S16 -> 2338845723 | W16: 0.053680606
A17: سرمایه‌گذاری‌ سپه‌ | D17: 0 | F17: 0 | H17: 0 | J17: =D17+F17+H17 -> 0 | L17: 0 | N17: 39883800000 | P17: 0 | S17: -18409977774 | U17: =N17+P17+S17 -> 21473822226 | W17: 0.49286184
A18: پتروشیمی پردیس | D18: 0 | F18: 70929833695 | H18: 0 | J18: =D18+F18+H18 -> 70929833695 | L18: 7.5098329 | N18: 7667957000 | P18: 153048214283 | S18: 13149811522 | U18: =N18+P18+S18 -> 173865982805 | W18: 3.9905289
A19: فولاد مبارکه اصفهان | D19: 0 | F19: 83141494325 | H19: 0 | J19: =D19+F19+H19 -> 83141494325 | L19: 8.802766 | N19: 6338934195 | P19: 111312335097 | S19: -2267 | U19: =N19+P19+S19 -> 117651267025 | W19: 2.7003027
... A60: تولید انرژی برق شمس پاسارگاد | D60: 0 | F60: 628376667 | H60: 0 | J60: =D60+F60+H60 -> 628376667 | L60: 0.066530591 | N60: 0 | P60: 628376666 | S60: 0 | U60: =N60+P60+S60 -> 628376666 | W60: 0.014422345
A61: جمع | D61: 0 | F61: =SUM(F8:F60) -> 899830142148 | H61: =SUM(H8:H60) -> 44580084685 | J61: =SUM(J8:J60) -> 944410226833 | L61: =SUM(L8:L60) -> 99.991253 | N61: =SUM(N8:N60) -> 440624646524 | P61: =SUM(P8:Q60) -> 3635895556756 | S61: =SUM(S8:S60) -> 291715701643 | U61: =SUM(U8:U60) -> 4368235904923 | W61: =SUM(W8:W60) -> 99.880807

Sheet درآمد سپرده بانکی
A1: صندوق سرمایه‌گذاری مشترک رشد سامان
A2: صورت وضعیت درآمدها
A3: برای ماه منتهی به 1405/06/31
A5: -4-2 | B5: درآمد حاصل از سرمایه­گذاری در سپرده بانکی و گواهی سپرده
A6: نام سپرده بانکی | D6: طی ماه | F6: از ابتدای سال مالی
A7: سپرده کوتاه مدت بانک سامان | D7: 795936 | E7: 0 | F7: 375801347
A8: سپرده کوتاه مدت بانک تجارت | D8: 3858178 | F8: 98005107
A9: جمع | D9: =SUM(D7:D8) -> 4654114 | F9: =SUM(F7:F8) -> 473806454

Sheet سایر درآمدها
A1: صندوق سرمایه‌گذاری مشترک رشد سامان
A2: صورت وضعیت درآمدها
A3: برای ماه منتهی به 1405/06/31
A5: -5-2 | B5: سایر درآمدها
D6: طی ماه | F6: 1405/06/31
A7: سایر درآمدها | D7: مبلغ | F7: مبلغ
A8: سایر درآمدها | D8: -128 | F8: 3277058915
A9: تعدیل کارمزد کارگزار | D9: 77960258 | F9: 1442336587
A10: جمع | D10: 77960130 | F10: 4719395502

Sheet درآمد سود سهام
A1: صندوق سرمایه‌گذاری مشترک رشد سامان
A2: صورت وضعیت درآمدها
A3: برای ماه منتهی به 1405/06/31
A5: درآمد سود سهام
A6: نام سهام | C6: اطلاعات مجمع | I6: طی ماه | O6: از ابتدای سال مالی
C7: تاریخ تشکیل مجمع | E7: تعداد سهام متعلقه در زمان مجمع | G7: سود متعلق به هر سهم | I7: جمع درآمد سود سهام | K7: هزینه تنزیل | M7: خالص درآمد سود سهام | O7: جمع درآمد سود سهام | Q7: هزینه تنزیل | S7: خالص درآمد سود سهام
A8: نفت‌ بهران‌ | C8: 1405/05/05 | E8: 7334321 | G8: 3000 | I8: 0 | K8: 0 | M8: 0 | O8: 22002963000 | Q8: 0 | S8: 22002963000
A9: تایدواترخاورمیانه | C9: 1405/04/29 | E9: 12828181 | G9: 850 | I9: 0 | K9: 0 | M9: 0 | O9: 10903953850 | Q9: 0 | S9: 10903953850
A10: سرمایه‌گذاری‌ سپه‌ | C10: 1404/12/03 | E10: 24172000 | G10: 1650 | I10: 0 | K10: 0 | M10: 0 | O10: 39883800000 | Q10: 0 | S10: 39883800000
A11: سرمایه‌گذاری‌صندوق‌بازنشستگی‌ | C11: 1405/04/30 | E11: 9639381 | G11: 1840 | I11: 0 | K11: 0 | M11: 0 | O11: 17736461040 | Q11: 0 | S11: 17736461040
A12: سرمایه‌گذاری‌غدیر(هلدینگ‌ | C12: 1404/12/10 | E12: 10530883 | G12: 1500 | I12: 0 | K12: 0 | M12: 0 | O12: 15796324500 | Q12: 0 | S12: 15796324500
A13: ملی‌ صنایع‌ مس‌ ایران‌ | C13: 1405/04/31 | E13: 21768923 | G13: 450 | I13: 0 | K13: 0 | M13: 0 | O13: =15584569650+7550 -> 15584577200 | Q13: 0 | S13: =O13-Q13 -> 15584577200
A14: گروه‌بهمن‌ | C14: 1405/04/31 | E14: 50817960 | G14: 250 | I14: 0 | K14: 0 | M14: 0 | O14: 12704490000 | Q14: 0 | S14: 12704490000
A15: داروسازی‌ فارابی‌ | C15: 1405/04/30 | E15: 17231359 | G15: 930 | I15: 0 | K15: 0 | M15: 0 | O15: 16025163870 | Q15: 632572258 | S15: 15392591612
A16: داروسازی‌ اکسیر | C16: 1405/04/07 | E16: 1310386 | G16: 940 | I16: 0 | K16: 0 | M16: 0 | O16: 1231762840 | Q16: 25610093 | S16: 1206152747
A17: سیمان‌ارومیه‌ | C17: 1405/03/20 | E17: 987629 | G17: 28874 | I17: 0 | K17: 0 | M17: 0 | O17: 28516799746 | Q17: 0 | S17: 28516799746
A18: نیروکلر | C18: 1404/11/21 | E18: 8826002 | G18: 1240 | I18: 0 | K18: 0 | M18: 0 | O18: 10944242480 | Q18: 0 | S18: 10944242480
A19: پالایش نفت اصفهان | C19: 1405/04/30 | E19: 46588350 | G19: 740 | I19: 0 | K19: 0 | M19: 0 | O19: 34475379000 | Q19: 0 | S19: 34475379000
A20: قند لرستان‌ | C20: 1404/08/24 | E20: 5762928 | G20: 1000 | I20: 0 | K20: 0 | M20: 0 | O20: 5762928000 | Q20: 0 | S20: 5762928000
A21: فولاد مبارکه اصفهان | C21: 1405/05/11 | E21: 115253349 | G21: 55 | I21: 0 | K21: 0 | M21: 0 | O21: 6338934195 | Q21: 0 | S21: 6338934195
A22: سیمان‌ صوفیان‌ | C22: 1405/03/19 | E22: 1290000 | G22: 27400 | I22: 0 | K22: 0 | M22: 0 | O22: 35346000000 | Q22: 0 | S22: 35346000000
A23: س. صنایع‌شیمیایی‌ایران | C23: 1405/02/30 | E23: 12600000 | G23: 350 | I23: 0 | K23: 0 | M23: 0 | O23: 4410000000 | Q23: 0 | S23: 4410000000
A24: ذغال‌سنگ‌ نگین‌ ط‌بس‌ | C24: 1405/04/29 | E24: 2300000 | G24: 800 | I24: 0 | K24: 0 | M24: 0 | O24: 1840000000 | Q24: 67968338 | S24: 1772031662
A25: معدنی‌ املاح‌ ایران‌ | C25: 1405/03/24 | E25: 4514559 | G25: 1910 | I25: 0 | K25: 0 | M25: 0 | O25: 8622807690 | Q25: 128003893 | S25: 8494803797
... A40: رهیاب پیام گستران | C40: 1405/04/31 | E40: 585000 | G40: 414 | I40: 0 | K40: 0 | M40: 0 | O40: 242190000 | Q40: 8483853 | S40: 233706147
A41: جمع | I41: 0 | K41: 0 | M41: 0 | O41: =SUM(O8:O40) -> 443674006443 | Q41: 3049359919 | S41: =SUM(S8:S40) -> 440624646524

Sheet سود سپرده بانکی
A1: صندوق سرمایه‌گذاری مشترک رشد سامان
A2: صورت وضعیت درآمدها
A3: برای ماه منتهی به 1405/06/31
A5: سود سپرده بانکی
A6: شرح | C6: طی ماه | I6: از ابتدای سال مالی
C7: درآمد سود | E7: هزینه تنزیل | G7: خالص درآمد | I7: درآمد سود | K7: هزینه تنزیل | M7: خالص درآمد
A8: سپرده کوتاه مدت بانک سامان | C8: 795936 | D8: 0 | E8: 0 | F8: 0 | G8: 795936 | H8: 0 | I8: 375801347 | J8: 0 | K8: 0 | L8: 0 | M8: 375801347 | N8: 0
A9: سپرده کوتاه مدت بانک تجارت | C9: 3858178 | E9: 0 | G9: 3858178 | I9: 98005107 | K9: 0 | M9: 98005107
A10: جمع | C10: =SUM(C8:C9) -> 4654114 | E10: =SUM(E8:E9) -> 0 | G10: =SUM(G8:G9) -> 4654114 | I10: =SUM(I8:I9) -> 473806454 | K10: =SUM(K8:K9) -> 0 | M10: =SUM(M8:M9) -> 473806454

Sheet درآمد ناشی از فروش
A1: صندوق سرمایه‌گذاری مشترک رشد سامان
A2: صورت وضعیت درآمدها
A3: برای ماه منتهی به 1405/06/31
A5: سود(زیان) حاصل از فروش اوراق بهادار
A6: شرح | C6: طی ماه | K6: از ابتدای سال مالی
C7: تعداد | E7: خالص بهای فروش | G7: ارزش دفتری | I7: سود و زیان ناشی از فروش | K7: تعداد | M7: خالص بهای فروش | O7: ارزش دفتری | Q7: سود و زیان ناشی از فروش
A8: شرکت صنایع غذایی مینو شرق | C8: 2460400 | E8: 20945536438 | G8: 7376641252 | I8: =E8-G8 -> 13568895186 | K8: 6060400 | M8: 49165695340 | O8: 18169970986 | Q8: 30995724354
A9: داروسازی‌ فارابی‌ | C9: 2050000 | E9: 35048464974 | G9: 9928173776 | I9: =E9-G9 -> 25120291198 | K9: 2050000 | M9: 35048464974 | O9: 9928173776 | Q9: 25120291198
A10: فجر انرژی خلیج فارس | C10: 3197341 | E10: 35810576629 | G10: 47579402795 | I10: =E10-G10 -> -11768826166 | K10: 3197341 | M10: 35810576629 | O10: 47579402795 | Q10: -11768826166
A11: نفت‌ بهران‌ | C11: 1 | E11: 1 | G11: 4902 | I11: =E11-G11 -> -4901 | K11: 1 | M11: 1 | O11: 4902 | Q11: -4901
A12: زرین ذرت شاهرود | C12: 1 | E12: 1 | G12: 5144 | I12: =E12-G12 -> -5143 | K12: 435001 | M12: 9672995387 | O12: 7458172538 | Q12: 2214822849
A13: ملی‌ صنایع‌ مس‌ ایران‌ | C13: 910000 | E13: 20009719992 | G13: 5538582255 | I13: =E13-G13 -> 14471137737 | K13: 8520000 | M13: 162839077850 | O13: 61305236444 | Q13: 101533841406
A14: صنعتی معدنی سیمان تجارت مهریز | C14: 462500 | E14: 12926776625 | G14: 9738179851 | I14: =E14-G14 -> 3188596774 | K14: 462500 | M14: 12926776625 | O14: 9738179851 | Q14: 3188596774
A15: کشت وصنعت و دامپروری پگاه فارس | C15: 0 | E15: 0 | G15: 0 | I15: 0 | K15: 720000 | M15: 9512131216 | O15: 7098439536 | Q15: 2413691680
A16: کولان سل | C16: 0 | E16: 0 | G16: 0 | I16: 0 | K16: 219000 | M16: 6130366851 | O16: 5291854762 | Q16: 838512089
A17: سرمایه‌گذاری‌ سپه‌ | C17: 0 | E17: 0 | G17: 0 | I17: 0 | K17: 26261342 | M17: 111294392488 | O17: 129704370262 | Q17: -18409977774
A18: پتروشیمی پردیس | C18: 0 | E18: 0 | G18: 0 | I18: 0 | K18: 2230001 | M18: 29230587498 | O18: 16080775976 | Q18: 13149811522
A19: فولاد مبارکه اصفهان | C19: 0 | E19: 0 | G19: 0 | I19: 0 | K19: 1 | M19: 1 | O19: 2268 | Q19: -2267
A20: سنگ آهن گهرزمین | C20: 0 | E20: 0 | G20: 0 | I20: 0 | K20: 1 | M20: 1 | O20: 7766 | Q20: -7765
A21: ح . سنگ آهن گهرزمین | C21: 0 | E21: 0 | G21: 0 | I21: 0 | K21: 4821749 | M21: 24856116095 | O21: 24856116095 | Q21: 0
A22: ح . کاشی‌ الوند | C22: 0 | E22: 0 | G22: 0 | I22: 0 | K22: 6516805 | M22: 18012449020 | O22: 17354642397 | Q22: 657806623
A23: معدنی‌ املاح‌ ایران‌ | C23: 0 | E23: 0 | G23: 0 | I23: 0 | K23: 2874872 | M23: 56173355207 | O23: 47290535322 | Q23: 8882819885
A24: کارخانجات تولیدی نیروترانسفو | C24: 0 | E24: 0 | G24: 0 | I24: 0 | K24: 1500000 | M24: 18238676998 | O24: 12182124600 | Q24: 6056552398
A25: شیشه‌ همدان‌ | C25: 0 | E25: 0 | G25: 0 | I25: 0 | K25: 42680000 | M25: 198198392423 | O25: 158879631825 | Q25: 39318760598
A26: کشت و صنعت هلال | C26: 0 | E26: 0 | G26: 0 | I26: 0 | K26: 125000 | M26: 6242618786 | O26: 4912955601 | Q26: 1329663185
... A40: مجتمع کاشی و سنگ پرسپولیس یزد | C40: 0 | E40: 0 | G40: 0 | I40: 0 | K40: 2513000 | M40: 17811670749 | O40: 15823366652 | Q40: 1988304097
A41: جمع | E41: =SUM(E8:E40) -> 124741074660 | G41: =SUM(G8:G40) -> 80160989975 | I41: =SUM(I8:I40) -> 44580084685 | M41: 1630282903157 | O41: 1338567201514 | Q41: 291715701643

Sheet درآمد ناشی از تغییر قیمت اوراق
A1: صندوق سرمایه‌گذاری مشترک رشد سامان
A2: صورت وضعیت درآمدها
A3: برای ماه منتهی به 1405/06/31
A5: درآمد ناشی از تغییر قیمت اوراق بهادار
A6: شرح | C6: طی ماه | K6: از ابتدای سال مالی
C7: تعداد | E7: خالص ارزش فروش | G7: ارزش دفتری | I7: سود و زیان ناشی از تغییر قیمت | K7: تعداد | M7: خالص ارزش فروش | O7: ارزش دفتری | Q7: سود و زیان ناشی از تغییر قیمت
A8: س. صنایع‌شیمیایی‌ایران | C8: 12600000 | E8: 134653023540 | G8: 138903908220 | I8: -4250884680 | K8: 12600000 | M8: 134653023540 | O8: 94703621207 | Q8: 39949402333
A9: صنایع دامپروری و لبنی رضوی | C9: 3910000 | E9: 44151847466 | G9: 37635245184 | I9: 6516602281 | K9: 3910000 | M9: 44151847466 | O9: 37635245184 | Q9: 6516602281
A10: فولاد مبارکه اصفهان | C10: 115253349 | E10: 372821556395 | G10: 289680062070 | I10: 83141494325 | K10: 115253349 | M10: 372821556395 | O10: 261509221298 | Q10: 111312335097
A11: کشت و صنعت هلال | C11: 125000 | E11: 6343085975 | G11: 6062769700 | I11: 280316274 | K11: 125000 | M11: 6343085975 | O11: 4912955599 | Q11: 1430130376
A12: مجتمع پترو صنعت گامرون | C12: 5986871 | E12: 161881145275 | G12: 150148475113 | I12: 11732670162 | K12: 5986871 | M12: 161881145275 | O12: 115335207898 | Q12: 46545937377
A13: قند لرستان‌ | C13: 5762928 | E13: 164231889871 | G13: 145246866390 | I13: 18985023481 | K13: 5762928 | M13: 164231889871 | O13: 49266291774 | Q13: 114965598097
A14: پالایش نفت اصفهان | C14: 46588350 | E14: 573229953475 | G14: 530699989185 | I14: 42529964290 | K14: 46588350 | M14: 573229953475 | O14: 189234763672 | Q14: 383995189803
A15: تایدواترخاورمیانه | C15: 9014740 | E15: 74780668659 | G15: 66372315963 | I15: 8408352696 | K15: 9014740 | M15: 74780668659 | O15: 46740294518 | Q15: 28040374141
A16: بانک‌اقتصادنوین‌ | C16: 77922000 | E16: 285309556248 | G16: 262886853996 | I16: 22422702252 | K16: 77922000 | M16: 285309556248 | O16: 238075972106 | Q16: 47233584142
A17: سرمایه‌گذاری‌غدیر(هلدینگ‌ | C17: 10530883 | E17: 214109830332 | G17: 201152476032 | I17: 12957354300 | K17: 10530883 | M17: 214109830332 | O17: 128392015601 | Q17: 85717814731
A18: غلتک سازان سپاهان | C18: 1436000 | E18: 19449881178 | G18: 20042370946 | I18: -592489768 | K18: 1436000 | M18: 19449881178 | O18: 20042370946 | Q18: -592489768
A19: پتروشیمی پردیس | C19: 24906757 | E19: 332653505762 | G19: 261723672067 | I19: 70929833695 | K19: 24906757 | M19: 332653505762 | O19: 179605291479 | Q19: 153048214283
... A45: پالایش نفت بندرعباس | C45: 29527778 | E45: 431289056223 | G45: 356868254400 | I45: 74420801823 | K45: 29527778 | M45: 431289056223 | O45: 121635051514 | Q45: 309654004709
A46: جمع | E46: =SUM(E8:E45) -> 7386476735938 | G46: =SUM(G8:G45) -> 6486646593788 | I46: =SUM(I8:I45) -> 899830142148 | M46: =SUM(M8:M45) -> 7386476735938 | O46: =SUM(O8:O45) -> 3750581179181 | Q46: =SUM(Q8:Q45) -> 3635895556756
